BEGIN:VCALENDAR
VERSION:2.0
PRODID:-//eventon.com NONSGML v1.0//EN
CALSCALE:GREGORIAN
METHOD:PUBLISH
BEGIN:VEVENT
UID:69ec1a5036c89
DTSTAMP:20260425T013512Z
DTSTART:20260417T000000Z
DTEND:20260417T010000Z
LOCATION:Flying Arts Alliance 381 Brunswick St Fortitude Valley QLD 4006
SUMMARY:QRAA Mervyn Moriarty Landscape Solo Exhibition Opening
DESCRIPTION:DetailsDate: Friday 17 April 2026Time: 9:45am for 10:00am &#821
 1; 11:00amLocation: Flying Arts Alliance381 Brunswick Street\,  Fortitude V
 alley QLD 4006 As part of the prize for winning the Mervyn Moriarty Landsca
 pe Award at the 2025 Queensland Regional Art Awards\,  Jonathon Westacott p
 resents a two-week solo exhibition at Flying Arts. Jonathon&#8217;s work[..
 ]\nhttps://www.flyingarts.org.au/events/qraa-mervyn-moriarty-landscape-awar
 d-solo-exhibition/
URL:https://www.flyingarts.org.au/events/qraa-mervyn-moriarty-landscape-award-solo-exhibition/
END:VEVENT
END:VCALENDAR