BEGIN:VCALENDAR
VERSION:2.0
PRODID:-//eventon.com NONSGML v1.0//EN
CALSCALE:GREGORIAN
METHOD:PUBLISH
BEGIN:VEVENT
UID:69eba161c4931
DTSTAMP:20260424T165913Z
DTSTART:20250220T230000Z
DTEND:20250221T060000Z
LOCATION:Your computer
SUMMARY:Creative Consultations with Jan Manton - BOOKED OUT!
DESCRIPTION:Spend 45 minutes online with Jan Manton\,  the director of the 
 leading contemporary art gallery: Jan Manton Gallery. This online consultat
 ion is an opportunity to discuss and receive professional feedback on your 
 artworks and art practice. Drawing on twenty years’ experience as a comme
 rcial art gallery director\,  Jan is perfectly[..]\nhttps://www.flyingarts.
 org.au/events/creative-consultations-with-jan-manton-3/
URL:https://www.flyingarts.org.au/events/creative-consultations-with-jan-manton-3/
END:VEVENT
END:VCALENDAR