BEGIN:VCALENDAR
VERSION:2.0
PRODID:-//eventon.com NONSGML v1.0//EN
CALSCALE:GREGORIAN
METHOD:PUBLISH
BEGIN:VEVENT
UID:69ecab6cd2684
DTSTAMP:20260425T115420Z
DTSTART:20240720T010000Z
DTEND:20240720T030000Z
LOCATION:Mike Carney Creative Industries Centre 96 Mosman St
SUMMARY:Mural Development Workshop - Charters Towers
DESCRIPTION:20th of July 2024 11am &#8211; 1pm This workshop has been desig
 ned in collaboration with the Mike Carney Creative Industries Centre in Cha
 rters Towers. Please contact admdccct@gmail.com for more information about 
 this workshop. This workshop is aimed at young artists\,  NDIS community m
 embers and TAFE students in Charters Towers. Inspired by[..]\nhttps://www.f
 lyingarts.org.au/events/mural-development-workshop-charters-towers/
URL:https://www.flyingarts.org.au/events/mural-development-workshop-charters-towers/
END:VEVENT
END:VCALENDAR