BEGIN:VCALENDAR
VERSION:2.0
PRODID:-//eventon.com NONSGML v1.0//EN
CALSCALE:GREGORIAN
METHOD:PUBLISH
BEGIN:VEVENT
UID:69ed3b4e4e4ad
DTSTAMP:20260425T220814Z
DTSTART:20241003T230000Z
DTEND:20241004T060000Z
LOCATION:Your computer
SUMMARY:SOLD OUT | Creative Consultations with Troy Casey
DESCRIPTION:Spend 45 minutes online with Troy Casey\,  the Managing Directo
 r of Blaklash (Kamilaroi). This online consultation is an opportunity to di
 scuss and receive professional feedback on your artworks and arts practice.
  Troy is passionate about harnessing economic opportunities to create posit
 ive social change for First Nations Australians. He combines his[..]\nhttps
 ://www.flyingarts.org.au/events/creative-consultations-with-troy-casey/
URL:https://www.flyingarts.org.au/events/creative-consultations-with-troy-casey/
END:VEVENT
END:VCALENDAR