BEGIN:VCALENDAR
VERSION:2.0
PRODID:-//eventon.com NONSGML v1.0//EN
CALSCALE:GREGORIAN
METHOD:PUBLISH
BEGIN:VEVENT
UID:69e4ecc7939fc
DTSTAMP:20260419T145503Z
DTSTART:20241107T230000Z
DTEND:20241108T060000Z
LOCATION:Your computer
SUMMARY:SOLD OUT | Creative Consultations with Jonathan McBurnie
DESCRIPTION:Spend 45 minutes online with Jonathan McBurnie\,  the Director 
 of leading Queensland art gallery: Rockhampton Museum of Art. This online c
 onsultation is an opportunity to discuss and receive professional feedback 
 on your artworks and arts practice. Jonathan McBurnie is the Director of Ro
 ckhampton Museum of Art. McBurnie completed a PhD[..]\nhttps://www.flyingar
 ts.org.au/events/creative-consultations-jonathan-mcburnie/
URL:https://www.flyingarts.org.au/events/creative-consultations-jonathan-mcburnie/
END:VEVENT
END:VCALENDAR