BEGIN:VCALENDAR
VERSION:2.0
PRODID:-//eventon.com NONSGML v1.0//EN
CALSCALE:GREGORIAN
METHOD:PUBLISH
BEGIN:VEVENT
UID:69ed40c0b9f53
DTSTAMP:20260425T223128Z
DTSTART:20240512T230000Z
DTEND:20240527T070000Z
LOCATION:Judith Wright Arts Centre 420 Brunswick st
SUMMARY:I Wouldn't Normally Do This Kind of Thing - Solo Exhibition by Lincoln Austin
DESCRIPTION:Explore &#8216;Art For Life Award&#8217; Winner Lincoln Austin&
 #8217;s solo exhibition at the Judith Wright Arts Centre from the 13th-27th
  of May 2024. Opening Hours: Mon &#8211; Fri: 9am &#8211; 5pm ABOUT LINCON&
 #8217;S PRACTICE Modular forms\,  tessellating patterns\,  interlocking str
 uctures … Lincoln Austin’s artworks reveal systems of making and codes 
 of[..]\nhttps://www.flyingarts.org.au/events/i-wouldnt-normally-do-this-kin
 d-of-thing-solo-exhibition-by-lincoln-austin/
URL:https://www.flyingarts.org.au/events/i-wouldnt-normally-do-this-kind-of-thing-solo-exhibition-by-lincoln-austin/
END:VEVENT
END:VCALENDAR