BEGIN:VCALENDAR
VERSION:2.0
PRODID:-//eventon.com NONSGML v1.0//EN
CALSCALE:GREGORIAN
METHOD:PUBLISH
BEGIN:VEVENT
UID:69ec2be909b5d
DTSTAMP:20260425T025017Z
DTSTART:20240321T000000Z
DTEND:20240422T060000Z
LOCATION:Cairns Court House Gallery 38 Abbott Street\,  Cairns City
SUMMARY:The Mervyn Moriarty Landscape Award the 2023 QRAA Touring Exhibition
DESCRIPTION:Opening Hours: 10am-4pm Tuesday-Saturday Flying Art Alliance’
 s founder\,  Mervyn Moriarty OAM\,  was a legendary figure in the arts. He 
 was an extraordinary art teacher and artist with a passion to bring the art
 s to the rural\,  regional and remote places. He learnt to fly to be able t
 o achieve this[..]\nhttps://www.flyingarts.org.au/events/the-mervyn-moriart
 y-landscape-award-exhibition-cairns-court-house-gallery/
URL:https://www.flyingarts.org.au/events/the-mervyn-moriarty-landscape-award-exhibition-cairns-court-house-gallery/
END:VEVENT
END:VCALENDAR