BEGIN:VCALENDAR
VERSION:2.0
PRODID:-//eventon.com NONSGML v1.0//EN
CALSCALE:GREGORIAN
METHOD:PUBLISH
BEGIN:VEVENT
UID:69eb4f3250a0f
DTSTAMP:20260424T110834Z
DTSTART:20240220T000000Z
DTEND:20240313T073000Z
LOCATION:Mitchell Fine Art 86 Arthur St\,  Fortitude Valley\,  4006
SUMMARY:The Mervyn Moriarty Landscape Award Exhibition
DESCRIPTION:Opening Hours: Monday to Friday: 10am &#8211; 5:30pm\,  Saturda
 ys 10am &#8211; 5pm. Flying Art Alliance’s founder\,  Mervyn Moriarty OAM
 \,  was a legendary figure in the arts. He was an extraordinary art teacher
  and artist with a passion to bring the arts to the rural\,  regional and r
 emote places. He learnt[..]\nhttps://www.flyingarts.org.au/events/the-mervy
 n-moriarty-landscape-award-exhibition/
URL:https://www.flyingarts.org.au/events/the-mervyn-moriarty-landscape-award-exhibition/
END:VEVENT
END:VCALENDAR