BEGIN:VCALENDAR
VERSION:2.0
PRODID:-//eventon.com NONSGML v1.0//EN
CALSCALE:GREGORIAN
METHOD:PUBLISH
BEGIN:VEVENT
UID:69e7552b43b68
DTSTAMP:20260421T104459Z
DTSTART:20240222T230000Z
DTEND:20240223T060000Z
LOCATION:Your computer
SUMMARY:SOLD OUT | Creative Consultations with Jan Manton
DESCRIPTION:SOLD OUT DUE TO POPULAR DEMAND. Spend 45 minutes online with Ja
 n Manton\,  the director of the leading contemporary art gallery: Jan Manto
 n Gallery. This online consultation is an opportunity to discuss and receiv
 e professional feedback on your artworks and art practice. Drawing on twent
 y years’ experience as a commercial[..]\nhttps://www.flyingarts.org.au/ev
 ents/creative-consultations-with-jan-manton/
URL:https://www.flyingarts.org.au/events/creative-consultations-with-jan-manton/
END:VEVENT
END:VCALENDAR