BEGIN:VCALENDAR
VERSION:2.0
PRODID:-//eventon.com NONSGML v1.0//EN
CALSCALE:GREGORIAN
METHOD:PUBLISH
BEGIN:VEVENT
UID:69eb3f9bda0e2
DTSTAMP:20260424T100203Z
DTSTART:20240606T230000Z
DTEND:20240607T060000Z
LOCATION:Your computer
SUMMARY:SOLD OUT | Creative Consultations with Simon Wright
DESCRIPTION:This consultation has sold out. Spend 45 minutes online with th
 e Assistant Director (Learning + Public Engagement) at QAGOMA: Simon Wright
 . This online consultation is an opportunity to discuss and receive profess
 ional feedback on your art practice and to get practical tips on how to tak
 e the next steps in[..]\nhttps://www.flyingarts.org.au/events/creative-cons
 ultations-with-simon-wright/
URL:https://www.flyingarts.org.au/events/creative-consultations-with-simon-wright/
END:VEVENT
END:VCALENDAR