BEGIN:VCALENDAR
VERSION:2.0
PRODID:-//eventon.com NONSGML v1.0//EN
CALSCALE:GREGORIAN
METHOD:PUBLISH
BEGIN:VEVENT
UID:69e751575482e
DTSTAMP:20260421T102839Z
DTSTART:20241007T194400Z
DTEND:20241007T194400Z
LOCATION:Your computer
SUMMARY:RAF Consultations
DESCRIPTION:Regional Arts Fund Consultations are a one-on-one opportunity t
 o discuss and receive advice about your Quick Response Grant or Project Gra
 nt application. Consultations run for 20 minutes and are held via Microsoft
  Teams. To make the most of your time\,  we ask that you come prepared with
  a brief description[..]\nhttps://www.flyingarts.org.au/events/raf-consulta
 tions-with-lauren-collard/
URL:https://www.flyingarts.org.au/events/raf-consultations-with-lauren-collard/
END:VEVENT
END:VCALENDAR