BEGIN:VCALENDAR
VERSION:2.0
PRODID:-//eventon.com NONSGML v1.0//EN
CALSCALE:GREGORIAN
METHOD:PUBLISH
BEGIN:VEVENT
UID:69eb2c067be06
DTSTAMP:20260424T083830Z
DTSTART:20220805T110000Z
DTEND:20220805T070000Z
LOCATION:Your computer
SUMMARY:Creative Consultations with Josh Milani
DESCRIPTION:Discuss your career or practice one-on-one with a respected art
 s industry professional. Josh Milani (b. 1973) is Director of Milani Galler
 y\,  Brisbane and a graduate of University of Queensland with a Bachelor of
  Arts (Art History). He has worked as an art dealer since 2003\,  represent
 ing artists such as Vernon[..]\nhttps://www.flyingarts.org.au/events/creati
 ve-consultations-with-josh-milani/
URL:https://www.flyingarts.org.au/events/creative-consultations-with-josh-milani/
END:VEVENT
END:VCALENDAR