BEGIN:VCALENDAR
VERSION:2.0
PRODID:-//eventon.com NONSGML v1.0//EN
CALSCALE:GREGORIAN
METHOD:PUBLISH
BEGIN:VEVENT
UID:69e56b2bb18c9
DTSTAMP:20260419T235419Z
DTSTART:20220610T020000Z
DTEND:20220610T030000Z
LOCATION:Your computer
SUMMARY:Get the Grant!
DESCRIPTION:In this webinar Flying Arts&#8217; Regional Arts Fund Lead\,  N
 athaniel Andrew\,  will discuss the national cultural funding landscape of 
 2022\,  answering your Frequently Asked Questions about the RAF Community P
 roject Grant and Quick Response Grant schemes. Nathaniel will speak to the 
 context of the fund\,  what RAF aims to support[..]\nhttps://www.flyingarts
 .org.au/events/get-the-grant/
URL:https://www.flyingarts.org.au/events/get-the-grant/
END:VEVENT
END:VCALENDAR