BEGIN:VCALENDAR
VERSION:2.0
PRODID:-//eventon.com NONSGML v1.0//EN
CALSCALE:GREGORIAN
METHOD:PUBLISH
BEGIN:VEVENT
UID:69e7f76480d0e
DTSTAMP:20260421T221708Z
DTSTART:20220428T053000Z
DTEND:20220428T064500Z
LOCATION:Your computer
SUMMARY:Connecting Art with LGBTQI+ Safe Spaces
DESCRIPTION:Celebrated artist Shannon Novak aims to use his socially engage
 d and collaborative practice to build spaces that acknowledge\,  celebrate\
 ,  and support diversity and inclusion. In this webinar\,  Shannon Novak wi
 ll discuss the importance of LGBTQI+ friendly spaces in schools and what to
 ols visual art can offer to create a welcoming[..]\nhttps://www.flyingarts.
 org.au/events/connecting-art-with-lgbtqi-safe-spaces/
URL:https://www.flyingarts.org.au/events/connecting-art-with-lgbtqi-safe-spaces/
END:VEVENT
END:VCALENDAR