BEGIN:VCALENDAR
VERSION:2.0
PRODID:-//eventon.com NONSGML v1.0//EN
CALSCALE:GREGORIAN
METHOD:PUBLISH
BEGIN:VEVENT
UID:69eb2c20cb4c7
DTSTAMP:20260424T083856Z
DTSTART:20220331T053000Z
DTEND:20220331T064500Z
LOCATION:Your computer
SUMMARY:Connecting Art with Online Communities
DESCRIPTION:The classroom is an increasingly digital space\,  with students
  absorbed in online worlds and connected daily to an array of creative imag
 ery. In this webinar\,  artist and curator\,  Nicholas Aloisio-Shearer\,  w
 ill discuss his work investigating the digital conditions of contemporary l
 ife. His practice engages with the cultural functions of imaging[..]\nhttps
 ://www.flyingarts.org.au/events/connecting-art-with-online-communities/
URL:https://www.flyingarts.org.au/events/connecting-art-with-online-communities/
END:VEVENT
END:VCALENDAR