BEGIN:VCALENDAR
VERSION:2.0
PRODID:-//eventon.com NONSGML v1.0//EN
CALSCALE:GREGORIAN
METHOD:PUBLISH
BEGIN:VEVENT
UID:69ec94af36161
DTSTAMP:20260425T101719Z
DTSTART:20220226T110000Z
DTEND:20220226T070000Z
LOCATION:The Court House 38 Abbott Street
SUMMARY:Creative Consultations with Carol McGregor
DESCRIPTION:Image credit: Carol McGregor\,  Wreath for Oodgeroo\,  2020\,  
 possum skins\,  charcoal\,  ochre\,  binder medium\,  waxed thread. Photo: 
 Louis Lim. This is a registration-only/ticketed event. Anyone entering the 
 Court House Gallery venue aged 16 years or over must be fully vaccinated\, 
  provide proof of vaccination status or evidence of medical contraindicatio
 n[..]\nhttps://www.flyingarts.org.au/events/creative-consultations-carol-mc
 gregor/
URL:https://www.flyingarts.org.au/events/creative-consultations-carol-mcgregor/
END:VEVENT
END:VCALENDAR