BEGIN:VCALENDAR
VERSION:2.0
PRODID:-//eventon.com NONSGML v1.0//EN
CALSCALE:GREGORIAN
METHOD:PUBLISH
BEGIN:VEVENT
UID:69e800b37dbba
DTSTAMP:20260421T225651Z
DTSTART:20220225T080000Z
DTEND:20220225T100000Z
LOCATION:The Court House 38 Abbott Street
SUMMARY:Paint the Town Opening Event - Cairns
DESCRIPTION:Get ready to Paint the Town\,  Cairns! Join the judges and priz
 e winning artists of the 2021 Queensland Regional Art Awards: Paint the Tow
 n for the exhibition opening weekend at the newly-opened The Court House Ga
 llery in Cairns. See the full weekend of programs About the exhibition Evok
 ing the spirit[..]\nhttps://www.flyingarts.org.au/events/paint-the-town-ope
 ning-cairns/
URL:https://www.flyingarts.org.au/events/paint-the-town-opening-cairns/
END:VEVENT
END:VCALENDAR