BEGIN:VCALENDAR
VERSION:2.0
PRODID:-//eventon.com NONSGML v1.0//EN
CALSCALE:GREGORIAN
METHOD:PUBLISH
BEGIN:VEVENT
UID:69e8c29de32e5
DTSTAMP:20260422T124413Z
DTSTART:20211029
DTEND:20211030
LOCATION:Nature&#039;s Powerhouse 1 Walker St
SUMMARY:Iterate | Elaborate - Cooktown
DESCRIPTION:Schoenheimer’s whimsical use of found objects and pieces of b
 rightly coloured timber toys spark familiarity and joy. Seductive colour sc
 hemes tie her complex works together and are fundamental to both a deliciou
 s viewing experience and the creation of meaning. In this exhibition we see
  a colourful collision of Schoenheimer’s sculpture[..]\nhttps://www.flyin
 garts.org.au/events/iterate-elaborate-cooktown/
URL:https://www.flyingarts.org.au/events/iterate-elaborate-cooktown/
END:VEVENT
END:VCALENDAR