BEGIN:VCALENDAR
VERSION:2.0
PRODID:-//eventon.com NONSGML v1.0//EN
CALSCALE:GREGORIAN
METHOD:PUBLISH
BEGIN:VEVENT
UID:69e683dc9c78a
DTSTAMP:20260420T195156Z
DTSTART:20210704T230000Z
DTEND:20210709T020000Z
LOCATION:
SUMMARY:Art Enquirer with IMA (Online)
DESCRIPTION:Please note this program has been cancelled with the view of re
 scheduling later in 2021. Please contact the program administrator for more
  details.   Digitally tour galleries and artist studios\,  meet contempora
 ry artists\,  and work with established industry mentors to hone your art w
 riting and critique skills. Participants will produce[..]\nhttps://www.flyi
 ngarts.org.au/events/art-enquirer-with-ima-2021/
URL:https://www.flyingarts.org.au/events/art-enquirer-with-ima-2021/
END:VEVENT
END:VCALENDAR