BEGIN:VCALENDAR
VERSION:2.0
PRODID:-//eventon.com NONSGML v1.0//EN
CALSCALE:GREGORIAN
METHOD:PUBLISH
BEGIN:VEVENT
UID:69ebcc909b811
DTSTAMP:20260424T200328Z
DTSTART:20210131T150300Z
DTEND:20210307T150300Z
LOCATION:
SUMMARY:2021 Regional Assembly Program: Regional Arts Australia
DESCRIPTION:Regional Assembly is artist led\,  informed by practice\,  uniq
 ue in process (co-designed) and relevant to the future creative sector. The
  assembly is designed to build artistic communities across geographic dista
 nces when living and working remotely is coupled with a desire to nurture a
 nd develop international connections. In addition to the three[..]\nhttps:
 //www.flyingarts.org.au/events/2021-regional-assembly-program-regional-arts
 -australia/
URL:https://www.flyingarts.org.au/events/2021-regional-assembly-program-regional-arts-australia/
END:VEVENT
END:VCALENDAR