BEGIN:VCALENDAR
VERSION:2.0
PRODID:-//eventon.com NONSGML v1.0//EN
CALSCALE:GREGORIAN
METHOD:PUBLISH
BEGIN:VEVENT
UID:69e8aa101b8b0
DTSTAMP:20260422T105928Z
DTSTART:20210930T020000Z
DTEND:20210930T030000Z
LOCATION:Your computer
SUMMARY:Culturally Safe Work Practices for the Arts
DESCRIPTION:Join the discussion to hear tips and hints for working in Cultu
 rally safe ways in the arts.&nbsp;Museums &amp; Galleries Queensland&#8217;
 s Training and Professional Development Manager\, &nbsp;Tara Callaghan\,  w
 ill present on: ‘First Peoples: A Roadmap for Enhancing Indigenous Engage
 ment in Museums and Galleries’\,  including some of the pathways that are
  achievable for[..]\nhttps://www.flyingarts.org.au/events/safe-work-practic
 es-for-the-arts/
URL:https://www.flyingarts.org.au/events/safe-work-practices-for-the-arts/
END:VEVENT
END:VCALENDAR