BEGIN:VCALENDAR
VERSION:2.0
PRODID:-//eventon.com NONSGML v1.0//EN
CALSCALE:GREGORIAN
METHOD:PUBLISH
BEGIN:VEVENT
UID:69e7592f2ff32
DTSTAMP:20260421T110207Z
DTSTART:20210805T230000Z
DTEND:20210806T070000Z
LOCATION:Flying Arts Alliance Office 420 Brunswick Street\,  Fortitude Valley\,  4006\,  Queensland
SUMMARY:Arts Consultations with Bronwyn Davies
DESCRIPTION:Update: Please note due to the South East Queensland Lockdown r
 estrictions\,  this event will now be streamed online. Discuss your career 
 or practice one-on-one with a respected arts industry professional.  Bron
 wyn Davies is both a practising artist and arts administrator based in reg
 ional Queensland. She manages a cultural development program for the Sceni
 c[..]\nhttps://www.flyingarts.org.au/events/arts-consultations-with-bronwyn
 -davies/
URL:https://www.flyingarts.org.au/events/arts-consultations-with-bronwyn-davies/
END:VEVENT
END:VCALENDAR