BEGIN:VCALENDAR
VERSION:2.0
PRODID:-//eventon.com NONSGML v1.0//EN
CALSCALE:GREGORIAN
METHOD:PUBLISH
BEGIN:VEVENT
UID:69e6979287d63
DTSTAMP:20260420T211602Z
DTSTART:20210211T020000Z
DTEND:20210211T030000Z
LOCATION:Your computer
SUMMARY:Collaborating with Local Government: Making Hard Infrastructure Happen
DESCRIPTION:Bianca Acimovic believes that&nbsp;it takes a team&nbsp;to deli
 ver a successful arts project&nbsp;and everyone contributes to success.&nbs
 p;Explore the possibilities for collaborating and connecting with local gov
 ernment on arts projects\,  consider opportunities for&nbsp;artists\,  prof
 essional arts&nbsp;workers&nbsp;and&nbsp;regional galleries&nbsp;to&nbsp;wo
 rk together\, &nbsp;and&nbsp;determine&nbsp;how&nbsp;to engage broadly with
 &nbsp;these&nbsp;stakeholders.&nbsp;\nhttps://www.flyingarts.org.au/events/
 collaborating-with-local-government-making-hard-infrastructure-happen-2/
URL:https://www.flyingarts.org.au/events/collaborating-with-local-government-making-hard-infrastructure-happen-2/
END:VEVENT
END:VCALENDAR