BEGIN:VCALENDAR
VERSION:2.0
PRODID:-//eventon.com NONSGML v1.0//EN
CALSCALE:GREGORIAN
METHOD:PUBLISH
BEGIN:VEVENT
UID:69ead93eaccf1
DTSTAMP:20260424T024518Z
DTSTART:20201021
DTEND:20201022
LOCATION:
SUMMARY:Associate Curator\,  International Art: QAGOMA - Brisbane\,  QLD
DESCRIPTION:The Associate Curator\,  International Art is member of a dynam
 ic and creative team\,  working across the Gallery’s Contemporary and His
 torical collections. The role contributes to the research and development o
 f the collection; exhibitions drawn from this; and major exhibitions featur
 ing loaned works and new artist’s projects. LEARN MORE\nhttps://www.flyin
 garts.org.au/events/associate-curator-international-art-qagoma/
URL:https://www.flyingarts.org.au/events/associate-curator-international-art-qagoma/
END:VEVENT
END:VCALENDAR