BEGIN:VCALENDAR
VERSION:2.0
PRODID:-//eventon.com NONSGML v1.0//EN
CALSCALE:GREGORIAN
METHOD:PUBLISH
BEGIN:VEVENT
UID:69e58e63a14b3
DTSTAMP:20260420T022435Z
DTSTART:20201207
DTEND:20201208
LOCATION:
SUMMARY:2021 John Villiers Outback Art Prize: Waltzing Matilda Centre - Winton\,  QLD
DESCRIPTION:Supported by the John Villiers Trust.  LEARN MORE\nhttps://www
 .flyingarts.org.au/events/2021-john-villiers-outback-art-prize-waltzing-mat
 ilda-centre-winton-qld/
URL:https://www.flyingarts.org.au/events/2021-john-villiers-outback-art-prize-waltzing-matilda-centre-winton-qld/
END:VEVENT
END:VCALENDAR