BEGIN:VCALENDAR
VERSION:2.0
PRODID:-//eventon.com NONSGML v1.0//EN
CALSCALE:GREGORIAN
METHOD:PUBLISH
BEGIN:VEVENT
UID:69ec9cb9ed499
DTSTAMP:20260425T105137Z
DTSTART:20201001T000000Z
DTEND:20201001T000000Z
LOCATION:
SUMMARY:Team Leader - Art Activation: Moreton Bay Regional Council - Strathpine\,  QLD
DESCRIPTION:As the Team Leader &#8211; Art Activation you will provide lead
 ership to the Public Art and Activation team by encouraging teamwork\,  in
 novation and excellence to lead the development of creative ideas\,  collab
 orations\,  and initiatives that build the capacity of the creative industr
 ies to activate galleries\,  spaces and places with cultural activity[..]\n
 https://www.flyingarts.org.au/events/team-leader-art-activation-moreton-bay
 -regional-council-strathpine-qld/
URL:https://www.flyingarts.org.au/events/team-leader-art-activation-moreton-bay-regional-council-strathpine-qld/
END:VEVENT
END:VCALENDAR