BEGIN:VCALENDAR
VERSION:2.0
PRODID:-//eventon.com NONSGML v1.0//EN
CALSCALE:GREGORIAN
METHOD:PUBLISH
BEGIN:VEVENT
UID:69e8921bded4d
DTSTAMP:20260422T091715Z
DTSTART:20200925T000000Z
DTEND:20200925T000000Z
LOCATION:
SUMMARY:Manager - Trusts and Foundations: Queensland Symphony Orchestra - Brisbane\,  QLD
DESCRIPTION:The Queensland Symphony Orchestra is seeking to appoint a Man
 ager &#8211; Trusts and Foundations to continue to expand and build upon t
 he success of the orchestra’s current Development Team.   Your highly d
 eveloped interpersonal skills and ability to write winning submissions and 
 proposals\,  particularly in the trusts\,  foundations and government progr
 ams arenas will set[..]\nhttps://www.flyingarts.org.au/events/manager-trust
 s-and-foundations-queensland-symphony-orchestra-brisbane-qld/
URL:https://www.flyingarts.org.au/events/manager-trusts-and-foundations-queensland-symphony-orchestra-brisbane-qld/
END:VEVENT
END:VCALENDAR