BEGIN:VCALENDAR
VERSION:2.0
PRODID:-//eventon.com NONSGML v1.0//EN
CALSCALE:GREGORIAN
METHOD:PUBLISH
BEGIN:VEVENT
UID:69e88bbfd9075
DTSTAMP:20260422T085007Z
DTSTART:20201006
DTEND:20201007
LOCATION:
SUMMARY:Cherish II (First Nations Cultural Funding): Australia Council for the Arts
DESCRIPTION:The Cherish II Fund is in response to the COVID-19 pandemic and
  the disruption experienced by the First Nations arts and cultural sector a
 nd community. The Cherish II Fund has been informed by the First Nations Ro
 undtables and the sector discussions and consultations in which the themes 
 have focused on[..]\nhttps://www.flyingarts.org.au/events/cherish-ii-austra
 lia-council-for-the-arts/
URL:https://www.flyingarts.org.au/events/cherish-ii-australia-council-for-the-arts/
END:VEVENT
END:VCALENDAR