BEGIN:VCALENDAR
VERSION:2.0
PRODID:-//eventon.com NONSGML v1.0//EN
CALSCALE:GREGORIAN
METHOD:PUBLISH
BEGIN:VEVENT
UID:69e659d0c843e
DTSTAMP:20260420T165232Z
DTSTART:20210215
DTEND:20210216
LOCATION:
SUMMARY:Queensland Arts Showcase Program (QASP): Arts QLD
DESCRIPTION:The Queensland Arts Showcase Program (QASP) supports vibrant
  and accessible arts and cultural experiences for Queensland by individuals
 \,  organisations or collectives. The QASP program is delivered through thr
 ee streams: Arts Accelerate\,  Arts Activate and Arts Advantage. Opening da
 te: 15 February 2021 Closing date: 14 March 2021 Funding announcement (duri
 ng week commencing): 26 April[..]\nhttps://www.flyingarts.org.au/events/que
 ensland-arts-showcase-program-qasp-arts-qld-queensland-2/
URL:https://www.flyingarts.org.au/events/queensland-arts-showcase-program-qasp-arts-qld-queensland-2/
END:VEVENT
END:VCALENDAR