BEGIN:VCALENDAR
VERSION:2.0
PRODID:-//eventon.com NONSGML v1.0//EN
CALSCALE:GREGORIAN
METHOD:PUBLISH
BEGIN:VEVENT
UID:69ecad6aee7da
DTSTAMP:20260425T120250Z
DTSTART:20200930T000000Z
DTEND:20200930T000000Z
LOCATION:
SUMMARY:Trainee Museum Frontline Service Officer: Isaac Regional Council - Clermont\,  QLD
DESCRIPTION:Provides efficient and courteous services to the community thro
 ugh the effective delivery of customer and museum focused functions in Coun
 cil’s Museums whilst completing a Certificate III in Library &amp; Infor
 mation Services over a 12-month period.  LEARN MORE\nhttps://www.flyingart
 s.org.au/events/trainee-museum-frontline-service-officer-isaac-regional-cou
 ncil-clermont-qld/
URL:https://www.flyingarts.org.au/events/trainee-museum-frontline-service-officer-isaac-regional-council-clermont-qld/
END:VEVENT
END:VCALENDAR