BEGIN:VCALENDAR
VERSION:2.0
PRODID:-//eventon.com NONSGML v1.0//EN
CALSCALE:GREGORIAN
METHOD:PUBLISH
BEGIN:VEVENT
UID:69ecdce73e836
DTSTAMP:20260425T152527Z
DTSTART:20200807
DTEND:20200808
LOCATION:Currumbin
SUMMARY:Volunteer Positions: SWELL Sculpture Festival - Currumbin\,  QLD
DESCRIPTION:Calling all volunteers! Come and join the team at SWELL Sculptu
 re Festival as we connect people\,  art and place in September 2020. Volunt
 eering at SWELL is a great opportunity to meet artists\,  enjoy company of 
 like-minded people and delve into the creative and energetic atmosphere of 
 SWELL. LEARN MORE\nhttps://www.flyingarts.org.au/events/volunteer-swell-202
 0/
URL:https://www.flyingarts.org.au/events/volunteer-swell-2020/
END:VEVENT
END:VCALENDAR