BEGIN:VCALENDAR
VERSION:2.0
PRODID:-//eventon.com NONSGML v1.0//EN
CALSCALE:GREGORIAN
METHOD:PUBLISH
BEGIN:VEVENT
UID:69e88b85a3a8c
DTSTAMP:20260422T084909Z
DTSTART:20200807
DTEND:20200808
LOCATION:Gold Coast
SUMMARY:Curator First Nations: Placemakers* Gold Coast - Gold Coast\,  QLD
DESCRIPTION:Placemakers* Gold Coast is looking for a Curator First Nations 
 to join our team and lead our First Nations artistic program. If you’re p
 assionate about contemporary First Nations practice; have experience workin
 g with artists from inception to delivery; have a can do attitude; work wel
 l in a small team; know[..]\nhttps://www.flyingarts.org.au/events/curator-f
 irst-nations-placemakers-gold-coast-gold-coast-qld/
URL:https://www.flyingarts.org.au/events/curator-first-nations-placemakers-gold-coast-gold-coast-qld/
END:VEVENT
END:VCALENDAR