BEGIN:VCALENDAR
VERSION:2.0
PRODID:-//eventon.com NONSGML v1.0//EN
CALSCALE:GREGORIAN
METHOD:PUBLISH
BEGIN:VEVENT
UID:69ebf6dcc1082
DTSTAMP:20260424T230356Z
DTSTART:20201114
DTEND:20201115
LOCATION:Lapunyah Art Gallery 80-86 Heeney Street\,  Chinchilla QLD 4413
SUMMARY:Iterate | Elaborate - Chinchilla
DESCRIPTION:Schoenheimer’s whimsical use of found objects and pieces of b
 rightly coloured timber toys spark familiarity and joy. Seductive colour sc
 hemes tie her complex works together and are fundamental to both a deliciou
 s viewing experience and the creation of meaning. In this exhibition we see
  a colourful collision of Schoenheimer’s sculpture[..]\nhttps://www.flyin
 garts.org.au/events/iterate-elaborate-chinchilla/
URL:https://www.flyingarts.org.au/events/iterate-elaborate-chinchilla/
END:VEVENT
END:VCALENDAR