BEGIN:VCALENDAR
VERSION:2.0
PRODID:-//eventon.com NONSGML v1.0//EN
CALSCALE:GREGORIAN
METHOD:PUBLISH
BEGIN:VEVENT
UID:69e75897b282e
DTSTAMP:20260421T105935Z
DTSTART:20200308
DTEND:20200309
LOCATION:Gold Coast
SUMMARY:Exhibitions Project Manager: Home of the Arts - Gold Coast\,  QLD
DESCRIPTION:The Exhibitions Project Manager will help deliver HOTA Galleryâ
 €™s diverse and exciting program. Working with a wide range of institutions
  and individuals the Exhibitions Project Manager is responsible for the coo
 rdination and delivery of high-quality exhibitions\,  collection displays a
 nd related projects at HOTA. LEARN MORE\nhttps://www.flyingarts.org.au/even
 ts/exhibitions-project-manager-home-of-the-arts-gold-coast-qld/
URL:https://www.flyingarts.org.au/events/exhibitions-project-manager-home-of-the-arts-gold-coast-qld/
END:VEVENT
END:VCALENDAR