BEGIN:VCALENDAR
VERSION:2.0
PRODID:-//eventon.com NONSGML v1.0//EN
CALSCALE:GREGORIAN
METHOD:PUBLISH
BEGIN:VEVENT
UID:69ebd10f564aa
DTSTAMP:20260424T202239Z
DTSTART:20200311T090000Z
DTEND:20200311T170000Z
LOCATION:The Stack\,  Mount Isa Civic Centre 23 West St\,  Mount Isa QLD 4825
SUMMARY:2020 Securing Funding Workshop\,  Mount Isa
DESCRIPTION:The Regional Arts Fund (RAF) is an Australian Government progra
 m designed to benefit regional and remote arts practitioners\,  arts worker
 s\,  audiences and communities. The fund is provided through Regional Arts 
 Australia and is administered in Queensland by Flying Arts Alliance. This f
 ree workshop\,  presented by Museums &amp; Galleries Queensland\,  aims[..]
 \nhttps://www.flyingarts.org.au/events/2020-securing-funding-workshop-mount
 -isa/
URL:https://www.flyingarts.org.au/events/2020-securing-funding-workshop-mount-isa/
END:VEVENT
END:VCALENDAR