BEGIN:VCALENDAR
VERSION:2.0
PRODID:-//eventon.com NONSGML v1.0//EN
CALSCALE:GREGORIAN
METHOD:PUBLISH
BEGIN:VEVENT
UID:69ebd0ef8898b
DTSTAMP:20260424T202207Z
DTSTART:20200903T143000Z
DTEND:20200903T154500Z
LOCATION:Your computer
SUMMARY:Colour theory: rethinking models
DESCRIPTION:Artist and scholar Abramo Papp brings together new scientific a
 nd artistic views on colour and how it can be taught in the visual arts cur
 riculum. Unpacking colour theory\,  and outlining how it needs to evolve\, 
  he presents a colour wheel for the 21st Century\,  one in which artists ca
 n more[..]\nhttps://www.flyingarts.org.au/events/colour-theory-rethinking-m
 odels/
URL:https://www.flyingarts.org.au/events/colour-theory-rethinking-models/
END:VEVENT
END:VCALENDAR