BEGIN:VCALENDAR
VERSION:2.0
PRODID:-//eventon.com NONSGML v1.0//EN
CALSCALE:GREGORIAN
METHOD:PUBLISH
BEGIN:VEVENT
UID:69ebc68c56a78
DTSTAMP:20260424T193748Z
DTSTART:20200521T110000Z
DTEND:20200521T120000Z
LOCATION:Your computer
SUMMARY:Talking with collecting institutions
DESCRIPTION:Carrie McCarthy from Griffith University Art Museum provides in
 sight into how art museums select works and objects for acquisition\,  and 
 what considerations are given to creating an Acquisitions Policy in collect
 ing institutions. Hear tips from an industry insider &#8211; the best way t
 o get your work noticed by curators and[..]\nhttps://www.flyingarts.org.au/
 events/talking-with-collecting-institutions/
URL:https://www.flyingarts.org.au/events/talking-with-collecting-institutions/
END:VEVENT
END:VCALENDAR