BEGIN:VCALENDAR
VERSION:2.0
PRODID:-//eventon.com NONSGML v1.0//EN
CALSCALE:GREGORIAN
METHOD:PUBLISH
BEGIN:VEVENT
UID:69e79c2a399b5
DTSTAMP:20260421T154754Z
DTSTART:20200409T110000Z
DTEND:20200409T120000Z
LOCATION:Your computer
SUMMARY:Working effectively with local galleries
DESCRIPTION:There are numerous ways that artists can engage with local gall
 eries and build rewarding relationships. Claire Sourgnes\,  CEO of Artisan 
 and past coordinator of the Art Gallery Network of the Moreton Bay Regional
  Council\,  outlines the range of possibilities for working together. You w
 ill: &#8211; Gain insight into the different[..]\nhttps://www.flyingarts.or
 g.au/events/working-effectively-with-local-galleries/
URL:https://www.flyingarts.org.au/events/working-effectively-with-local-galleries/
END:VEVENT
END:VCALENDAR