BEGIN:VCALENDAR
VERSION:2.0
PRODID:-//eventon.com NONSGML v1.0//EN
CALSCALE:GREGORIAN
METHOD:PUBLISH
BEGIN:VEVENT
UID:69ebdee694004
DTSTAMP:20260424T212142Z
DTSTART:20200622
DTEND:20200623
LOCATION:
SUMMARY:Latin American Fine Art Competition: New York Art Competitions - New York\,  NY
DESCRIPTION:The competition is open for Latin America\,  the Caribbean\,  S
 pain\,  Portugal\,  the Latin American diaspora\,  and foreign artists livi
 ng and working in any of the above regions/countries. All Latin American ar
 tists above the age of 18 are eligible to participate. Painting\,  drawing
 \,  sculpture\,  photography\,  digital\,  printing\,  and mixed media are 
 eligible.[..]\nhttps://www.flyingarts.org.au/events/latin-american-fine-art
 -competition-new-york-art-competitions-new-york-ny/
URL:https://www.flyingarts.org.au/events/latin-american-fine-art-competition-new-york-art-competitions-new-york-ny/
END:VEVENT
END:VCALENDAR