BEGIN:VCALENDAR
VERSION:2.0
PRODID:-//eventon.com NONSGML v1.0//EN
CALSCALE:GREGORIAN
METHOD:PUBLISH
BEGIN:VEVENT
UID:69ebd1045e99d
DTSTAMP:20260424T202228Z
DTSTART:20200304
DTEND:20200305
LOCATION:
SUMMARY:Indian Contemporary Art Competition: New York Art Competitions - New York\,  USA
DESCRIPTION:The competition is open for Indian\,  Indian diaspora artists a
 nd artists residing in India at any stage of their careers. Artists are in
 vited to submit in any of the following mediums: painting\,  sculpture\,  p
 hotography\,  drawing\,  mixed media\,  and print. LEARN MORE\nhttps://www.
 flyingarts.org.au/events/indian-contemporary-art-competition-new-york-art-c
 ompetitions-new-york-usa/
URL:https://www.flyingarts.org.au/events/indian-contemporary-art-competition-new-york-art-competitions-new-york-usa/
END:VEVENT
END:VCALENDAR