BEGIN:VCALENDAR
VERSION:2.0
PRODID:-//eventon.com NONSGML v1.0//EN
CALSCALE:GREGORIAN
METHOD:PUBLISH
BEGIN:VEVENT
UID:69ed238e11bd0
DTSTAMP:20260425T202654Z
DTSTART:20200212
DTEND:20200213
LOCATION:Sydney Sydney\,  NSW
SUMMARY:Head On Student Award: Head On Photo Festival - Sydney\,  NSW
DESCRIPTION:Enter your best work into the Head On Photo Awards 2020. The H
 ead On Student Award is open to all K-12 Australian school students. LEARN 
 MORE\nhttps://www.flyingarts.org.au/events/head-on-student-award-head-on-ph
 oto-festival-sydney-nsw/
URL:https://www.flyingarts.org.au/events/head-on-student-award-head-on-photo-festival-sydney-nsw/
END:VEVENT
END:VCALENDAR