BEGIN:VCALENDAR
VERSION:2.0
PRODID:-//eventon.com NONSGML v1.0//EN
CALSCALE:GREGORIAN
METHOD:PUBLISH
BEGIN:VEVENT
UID:69ec9a40b9d0c
DTSTAMP:20260425T104104Z
DTSTART:20200216
DTEND:20200217
LOCATION:
SUMMARY:Head On Photo Awards: Head on Photo Festival - Sydney\,  NSW
DESCRIPTION:The Head On Portrait and Landscape awards are open INTERNATIONA
 LLY to professional\,  emerging and enthusiast photographers from classical
  to contemporary styles. LEARN MORE\nhttps://www.flyingarts.org.au/events/h
 ead-on-photo-awards-head-on-photo-festival-sydney-nsw/
URL:https://www.flyingarts.org.au/events/head-on-photo-awards-head-on-photo-festival-sydney-nsw/
END:VEVENT
END:VCALENDAR