BEGIN:VCALENDAR
VERSION:2.0
PRODID:-//eventon.com NONSGML v1.0//EN
CALSCALE:GREGORIAN
METHOD:PUBLISH
BEGIN:VEVENT
UID:69ed332de88c7
DTSTAMP:20260425T213333Z
DTSTART:20200202
DTEND:20200203
LOCATION:Brisbane
SUMMARY:Petite Pieces: Aspire Gallery - Paddington\,  QLD
DESCRIPTION:Open to national and international artists\,  entrants may subm
 it work of all mediums(including three-dimensional works and photography) u
 p to 50 cm in height\,  length and width. LEARN MORE\nhttps://www.flyingart
 s.org.au/events/petite-pieces-aspire-gallery-paddington-qld/
URL:https://www.flyingarts.org.au/events/petite-pieces-aspire-gallery-paddington-qld/
END:VEVENT
END:VCALENDAR