BEGIN:VCALENDAR
VERSION:2.0
PRODID:-//eventon.com NONSGML v1.0//EN
CALSCALE:GREGORIAN
METHOD:PUBLISH
BEGIN:VEVENT
UID:69ec985d4f14b
DTSTAMP:20260425T103301Z
DTSTART:20201023T080000Z
DTEND:20201023T160000Z
LOCATION:Artspace Mackay Gordon St\,  Mackay
SUMMARY:Consultations with Blaklash
DESCRIPTION:Take the opportunity to discuss your career or practice one-on-
 one with Troy Casey and Amanda Hayman of Blaklash Creative\,  respected art
 s industry professionals specialising in the curation of exhibitions\,  cul
 tural events and bespoke creative projects that showcase Aboriginal and Tor
 res Strait Islander voices. Use these one-hour sessions to discuss matters[
 ..]\nhttps://www.flyingarts.org.au/events/consultations-with-blaklash/
URL:https://www.flyingarts.org.au/events/consultations-with-blaklash/
END:VEVENT
END:VCALENDAR