BEGIN:VCALENDAR
VERSION:2.0
PRODID:-//eventon.com NONSGML v1.0//EN
CALSCALE:GREGORIAN
METHOD:PUBLISH
BEGIN:VEVENT
UID:69e6a8586345e
DTSTAMP:20260420T222736Z
DTSTART:20200821T080000Z
DTEND:20200821T160000Z
LOCATION:Flying Arts Alliance Office 420 Brunswick Street\,  Fortitude Valley\,  4006\,  Queensland
SUMMARY:Consultations with Bruce Heiser
DESCRIPTION:Take the opportunity to discuss your career or practice one-on-
 one with respected arts industry professional\,  Bruce Heiser. He is the Di
 rector of Bruce Heiser Projects and former Director of Heiser Galleries. Us
 e these one-hour sessions to discuss matters most relevant to you. Topics o
 f discussion may include: &#8211; Mapping your[..]\nhttps://www.flyingarts.
 org.au/events/consultations-with-bruce-heiser-2/
URL:https://www.flyingarts.org.au/events/consultations-with-bruce-heiser-2/
END:VEVENT
END:VCALENDAR