BEGIN:VCALENDAR
VERSION:2.0
PRODID:-//eventon.com NONSGML v1.0//EN
CALSCALE:GREGORIAN
METHOD:PUBLISH
BEGIN:VEVENT
UID:69e5410172339
DTSTAMP:20260419T205425Z
DTSTART:20200221T090000Z
DTEND:20200221T170000Z
LOCATION:Flying Arts Alliance Office 420 Brunswick Street\,  Fortitude Valley\,  4006\,  Queensland
SUMMARY:Consultations with Robyn Daw
DESCRIPTION:Take the opportunity to discuss your career or practice one-on-
 one with respected arts industry professional\,  Robyn Daw. She is the curr
 ent Creative Industries Program Leader at Logan City Council and served as 
 a judge for the Queensland Regional Art Awards in 2019. Use these one-hour 
 sessions to discuss matters most[..]\nhttps://www.flyingarts.org.au/events/
 consultations-with-robyn-daw/
URL:https://www.flyingarts.org.au/events/consultations-with-robyn-daw/
END:VEVENT
END:VCALENDAR