BEGIN:VCALENDAR
VERSION:2.0
PRODID:-//eventon.com NONSGML v1.0//EN
CALSCALE:GREGORIAN
METHOD:PUBLISH
BEGIN:VEVENT
UID:69ebc6b5d1628
DTSTAMP:20260424T193829Z
DTSTART:20201023T090000Z
DTEND:20210124T150000Z
LOCATION:Artspace Mackay Gordon St\,  Mackay
SUMMARY:Jabu Birriny (Land + Sea) - Mackay
DESCRIPTION:Jabu Birriny (Land + Sea) celebrates the unique environment of 
 Yarrabah and its ongoing importance to culture and people. The exhibition b
 rings together stories rich in lineal\,  past and recent histories through 
 vibrant prints\,  woven vessels and textured ceramics that embody their lan
 d and sea. Opening Hours: Tuesday – Friday[..]\nhttps://www.flyingarts.or
 g.au/events/jabu-birriny-land-sea-mackay/
URL:https://www.flyingarts.org.au/events/jabu-birriny-land-sea-mackay/
END:VEVENT
END:VCALENDAR