BEGIN:VCALENDAR
VERSION:2.0
PRODID:-//eventon.com NONSGML v1.0//EN
CALSCALE:GREGORIAN
METHOD:PUBLISH
BEGIN:VEVENT
UID:69ebd0a6c7a9f
DTSTAMP:20260424T202054Z
DTSTART:20200302
DTEND:20200303
LOCATION:Townsville\,  QLD Townsville\,  QLD
SUMMARY:The Percivals Portrait Prizes: Pinnacles Gallery - City of Townsville
DESCRIPTION:North Queensland&#8217;s The Percivals Portrait Prizes are thr
 ee Portrait prizes which celebrate the outstanding and innovating works cur
 rently being produced by Australian artists. The Prize&#8217;s categories i
 nclude the Portrait Painting Prize\,  Photographic Portrait Prize and the A
 nimal Portrait Prize. LEARN MORE\nhttps://www.flyingarts.org.au/events/the-
 percivals-portrait-prizes-pinnacles-gallery-city-of-townsville/
URL:https://www.flyingarts.org.au/events/the-percivals-portrait-prizes-pinnacles-gallery-city-of-townsville/
END:VEVENT
END:VCALENDAR