BEGIN:VCALENDAR
VERSION:2.0
PRODID:-//eventon.com NONSGML v1.0//EN
CALSCALE:GREGORIAN
METHOD:PUBLISH
BEGIN:VEVENT
UID:69ebd0f9683fe
DTSTAMP:20260424T202217Z
DTSTART:20200313
DTEND:20200314
LOCATION:Surat
SUMMARY:In Focus (Photography) Competition: Surat Balonne Gallery - Surat\,  QLD
DESCRIPTION:Entries are now open for Surat on Balonne Gallery&#8217;s In Fo
 cus 2020 photography competition and exhibition. Email suratlibrary@maranoa
 .qld.gov.au to request an entry form. LEARN MORE\nhttps://www.flyingarts.or
 g.au/events/in-focus-photography-competition-surat-balonne-gallery-surat-ql
 d/
URL:https://www.flyingarts.org.au/events/in-focus-photography-competition-surat-balonne-gallery-surat-qld/
END:VEVENT
END:VCALENDAR