BEGIN:VCALENDAR
VERSION:2.0
PRODID:-//eventon.com NONSGML v1.0//EN
CALSCALE:GREGORIAN
METHOD:PUBLISH
BEGIN:VEVENT
UID:69ed7e912638b
DTSTAMP:20260426T025513Z
DTSTART:20191127
DTEND:20191128
LOCATION:Townsville\,  QLD Townsville\,  QLD
SUMMARY:Performing Arts Officer: Townsville City Council - Townsville\,  QLD
DESCRIPTION:The Performing Arts Project Officer undertakes the day to day a
 dministrative responsibilities for the planning\,  development and delivery
  of the annual Festival of One Act Plays project and other performing arts 
 administration to support the Coordinator of Performing Arts. LEARN MORE\nh
 ttps://www.flyingarts.org.au/events/performing-arts-officer-townsville/
URL:https://www.flyingarts.org.au/events/performing-arts-officer-townsville/
END:VEVENT
END:VCALENDAR